BEGIN:VCALENDAR
VERSION:2.0
PRODID:icalendar-ruby
CALSCALE:GREGORIAN
METHOD:PUBLISH
BEGIN:VEVENT
DTSTAMP:20260419T234557Z
UID:11-1772160@onelife.tithelysetup2.com
DTSTART:20260521T223000Z
DTEND:20260522T003000Z
CLASS:PUBLIC
CREATED:20260311T100452
DESCRIPTION:
LAST-MODIFIED:20260311T100452
LOCATION:One Life Church
SUMMARY:Jueves Familiares
URL;VALUE=URI:https://onelife.tithelysetup2.com/events/jueves-familiares/20
 26-05-21
END:VEVENT
END:VCALENDAR
